BEGIN:VCALENDAR
VERSION:2.0
PRODID:-//GMOScience - ECPv6.15.20//NONSGML v1.0//EN
CALSCALE:GREGORIAN
METHOD:PUBLISH
X-ORIGINAL-URL:https://gmoscience.org
X-WR-CALDESC:Events for GMOScience
REFRESH-INTERVAL;VALUE=DURATION:PT1H
X-Robots-Tag:noindex
X-PUBLISHED-TTL:PT1H
BEGIN:VTIMEZONE
TZID:America/Los_Angeles
BEGIN:DAYLIGHT
TZOFFSETFROM:-0800
TZOFFSETTO:-0700
TZNAME:PDT
DTSTART:20240310T100000
END:DAYLIGHT
BEGIN:STANDARD
TZOFFSETFROM:-0700
TZOFFSETTO:-0800
TZNAME:PST
DTSTART:20241103T090000
END:STANDARD
BEGIN:DAYLIGHT
TZOFFSETFROM:-0800
TZOFFSETTO:-0700
TZNAME:PDT
DTSTART:20250309T100000
END:DAYLIGHT
BEGIN:STANDARD
TZOFFSETFROM:-0700
TZOFFSETTO:-0800
TZNAME:PST
DTSTART:20251102T090000
END:STANDARD
BEGIN:DAYLIGHT
TZOFFSETFROM:-0800
TZOFFSETTO:-0700
TZNAME:PDT
DTSTART:20260308T100000
END:DAYLIGHT
BEGIN:STANDARD
TZOFFSETFROM:-0700
TZOFFSETTO:-0800
TZNAME:PST
DTSTART:20261101T090000
END:STANDARD
END:VTIMEZONE
BEGIN:VEVENT
DTSTART;VALUE=DATE:20250723
DTEND;VALUE=DATE:20250726
DTSTAMP:20260420T175422
CREATED:20250702T024942Z
LAST-MODIFIED:20250702T024942Z
UID:1377548-1753228800-1753487999@gmoscience.org
SUMMARY:Healthy America 2025
DESCRIPTION:The Healthy America 2025 National Conference will take place in Washington D.C. July 23-25. This event is a unique opportunity for networking and collaboration between President Trump’s Make America Healthy community\, and legislators. Be a voice in the national dialogue. \nOur conference brings together Make America Healthy leaders and expert\, together with legislators\, agency leaders and their staffs\, to share insights\, network\, and learn about the latest trends and best practices in health and wellness.
URL:https://gmoscience.org/event/healthy-america-2025/
LOCATION:The Quad\, Washington\, DC\, United States
END:VEVENT
END:VCALENDAR